0.2
0
0
-0.2
624710.1
5142549.9
