0.2
0
0
-0.2
621400.1
5148039.9
