0.2
0
0
-0.2
624600.1
5148109.9
