0.6350183749
0.0000000000
0.0000000000
-0.6350183749
680762.9307309912
5091230.4448230192
