0.6350183749
0.0000000000
0.0000000000
-0.6350183749
668148.0658042228
5079740.7691683751
