0.6350183749
0.0000000000
0.0000000000
-0.6350183749
655207.0121353428
5079389.3949137013
