0.6350183749
0.0000000000
0.0000000000
-0.6350183749
661531.8091155597
5085117.5504158465
