0.6350183749
0.0000000000
0.0000000000
-0.6350183749
654928.3223124623
5090500.1964344671
