0.6350183749
0.0000000000
0.0000000000
-0.6350183749
648737.3028839652
5079223.7751173461
