0.6350183749
0.0000000000
0.0000000000
-0.6350183749
629325.4054437412
5078767.7799680904
