0.6350183749
0.0000000000
0.0000000000
-0.6350183749
616176.1613332384
5089608.8402307509
