0.6350183749
0.0000000000
0.0000000000
-0.6350183749
622524.5925926669
5095295.8612603145
