0.6350183749
0.0000000000
0.0000000000
-0.6350183749
718524.1732186563
5120304.4349229541
