0.6350183749
0.0000000000
0.0000000000
-0.6350183749
705665.7522128167
5119844.5619655950
