0.6350183749
0.0000000000
0.0000000000
-0.6350183749
693156.8849297859
5108302.0214305650
