0.6350183749
0.0000000000
0.0000000000
-0.6350183749
686715.5398043613
5108095.7671040604
