0.6350183749
0.0000000000
0.0000000000
-0.6350183749
680273.6947486377
5107896.1476875115
