0.6350183749
0.0000000000
0.0000000000
-0.6350183749
692806.6964029557
5119412.8235296840
