0.6350183749
0.0000000000
0.0000000000
-0.6350183749
686376.8510737707
5119206.5691101579
