0.6350183749
0.0000000000
0.0000000000
-0.6350183749
673989.8968576851
5102147.9922110792
