0.6350183749
0.0000000000
0.0000000000
-0.6350183749
654648.9974752511
5101610.9979633186
