0.6350183749
0.0000000000
0.0000000000
-0.6350183749
673832.9847507876
5107704.0281435242
