0.6350183749
0.0000000000
0.0000000000
-0.6350183749
648202.2878123071
5101445.3779809214
