0.6350183749
0.0000000000
0.0000000000
-0.6350183749
641370.4753636714
5117953.9598681824
