0.6350183749
0.0000000000
0.0000000000
-0.6350183749
622303.9017298138
5106406.6623200150
