0.6350183749
0.0000000000
0.0000000000
-0.6350183749
622082.2108809862
5117517.9633706836
