0.6350183749
0.0000000000
0.0000000000
-0.6350183749
718127.6205594920
5131415.2374062948
