0.6350183749
0.0000000000
0.0000000000
-0.6350183749
679783.7288391745
5124562.8505501114
