0.6350183749
0.0000000000
0.0000000000
-0.6350183749
686038.6623341449
5130317.3711203011
