0.6350183749
0.0000000000
0.0000000000
-0.6350183749
679620.9518640622
5130118.7514996352
