0.6350183749
0.0000000000
0.0000000000
-0.6350183749
692280.5961166030
5136079.5266794395
