0.6350183749
0.0000000000
0.0000000000
-0.6350183749
692104.6843570799
5141635.4277260350
