0.6350183749
0.0000000000
0.0000000000
-0.6350183749
666633.6189046033
5135295.7777490653
