0.6350183749
0.0000000000
0.0000000000
-0.6350183749
647531.6303131458
5129224.0165809216
