0.6350183749
0.0000000000
0.0000000000
-0.6350183749
717529.3865467708
5148081.9411263186
