0.6350183749
0.0000000000
0.0000000000
-0.6350183749
704729.9644748002
5147623.0676817354
