0.6350183749
0.0000000000
0.0000000000
-0.6350183749
704541.5529411524
5153179.1038528038
