0.6350183749
0.0000000000
0.0000000000
-0.6350183749
710742.4876303020
5158961.1243628664
