0.6350183749
0.0000000000
0.0000000000
-0.6350183749
647127.5278303392
5145890.5837164307
