0.6350183749
0.0000000000
0.0000000000
-0.6350183749
627927.2615957160
5145435.7218778534
