0.6350183749
0.0000000000
0.0000000000
-0.6350183749
627809.8487790969
5150991.6224512504
