0.6350183749
0.0000000000
0.0000000000
-0.6350183749
642521.1489283422
5067954.8538588360
