0.6350354576
0.0000000000
0.0000000000
-0.6350354576
655207.2406774627
5079389.4718544986
