0.6350354576
0.0000000000
0.0000000000
-0.6350354576
661532.0376405967
5085117.6274591405
