0.6350354576
0.0000000000
0.0000000000
-0.6350354576
655067.8283226707
5084944.3726239158
