0.6350354576
0.0000000000
0.0000000000
-0.6350354576
661387.2604337265
5090672.5282770908
