0.6350354576
0.0000000000
0.0000000000
-0.6350354576
648736.8964760413
5079223.8519727299
