0.6350354576
0.0000000000
0.0000000000
-0.6350354576
642266.0523321881
5079065.7319554370
