0.6350354576
0.0000000000
0.0000000000
-0.6350354576
642138.1397736354
5084620.6326358765
