0.6350354576
0.0000000000
0.0000000000
-0.6350354576
648470.2065900655
5090334.6534045171
